BEGIN:VCALENDAR
VERSION:2.0
PRODID:-//Sacred Center - ECPv6.15.20//NONSGML v1.0//EN
CALSCALE:GREGORIAN
METHOD:PUBLISH
X-ORIGINAL-URL:https://sacredcenter.net
X-WR-CALDESC:Events for Sacred Center
REFRESH-INTERVAL;VALUE=DURATION:PT1H
X-Robots-Tag:noindex
X-PUBLISHED-TTL:PT1H
BEGIN:VTIMEZONE
TZID:America/New_York
BEGIN:DAYLIGHT
TZOFFSETFROM:-0500
TZOFFSETTO:-0400
TZNAME:EDT
DTSTART:20230312T070000
END:DAYLIGHT
BEGIN:STANDARD
TZOFFSETFROM:-0400
TZOFFSETTO:-0500
TZNAME:EST
DTSTART:20231105T060000
END:STANDARD
BEGIN:DAYLIGHT
TZOFFSETFROM:-0500
TZOFFSETTO:-0400
TZNAME:EDT
DTSTART:20240310T070000
END:DAYLIGHT
BEGIN:STANDARD
TZOFFSETFROM:-0400
TZOFFSETTO:-0500
TZNAME:EST
DTSTART:20241103T060000
END:STANDARD
BEGIN:DAYLIGHT
TZOFFSETFROM:-0500
TZOFFSETTO:-0400
TZNAME:EDT
DTSTART:20250309T070000
END:DAYLIGHT
BEGIN:STANDARD
TZOFFSETFROM:-0400
TZOFFSETTO:-0500
TZNAME:EST
DTSTART:20251102T060000
END:STANDARD
END:VTIMEZONE
BEGIN:VEVENT
DTSTART;TZID=America/New_York:20240910T000000
DTEND;TZID=America/New_York:20240923T235959
DTSTAMP:20260421T200351
CREATED:20240124T170732Z
LAST-MODIFIED:20240125T172601Z
UID:6453-1725926400-1727135999@sacredcenter.net
SUMMARY:Journey to the Stargates of Peru 2024
DESCRIPTION:The itinerary is now available – click the button below for more details and to register. \n\n\n\n\n\n\n\n\n\n\n\nVisit Machu Picchu\, Pisac\, Tipon\, Ausangate\, Lake Titicaca\, Nazca\, Paracas\n\n\n\nOptional extended journey through September 26: Explore the 5000 yr old Sacred City of Caral\n\n\n\n\n\n\n\n\n\n\nLearn More and Register
URL:https://sacredcenter.net/event/journey-to-the-stargates-of-peru-2024/
CATEGORIES:Journey to Peru
ATTACH;FMTTYPE=image/jpeg:https://sacredcenter.net/wp-content/uploads/2022/02/Day11-Tiawanaco.jpg
END:VEVENT
BEGIN:VEVENT
DTSTART;TZID=America/New_York:20240923T000000
DTEND;TZID=America/New_York:20240926T235959
DTSTAMP:20260421T200351
CREATED:20240124T175953Z
LAST-MODIFIED:20240125T172644Z
UID:6510-1727049600-1727395199@sacredcenter.net
SUMMARY:Journey to the Stargates of Peru 2024 (extended journey)
DESCRIPTION:The itinerary is now available – click the button below for more details and to register. \n\n\n\n\n\n\n\n\n\n\nVisit Machu Picchu\, Pisac\, Tipon\, Ausangate\, Lake Titicaca\, Nazca\, Paracas\n\n\n\nOptional extended journey through September 26: Explore the 5000 yr old Sacred City of Caral\n\n\n\n\n\n\n\n\n\n\nLearn More and Register
URL:https://sacredcenter.net/event/journey-to-the-stargates-of-peru-2024-extended-journey/
CATEGORIES:Journey to Peru
ATTACH;FMTTYPE=image/jpeg:https://sacredcenter.net/wp-content/uploads/2023/03/on-horseback-peru.jpg
END:VEVENT
END:VCALENDAR