BEGIN:VCALENDAR
VERSION:2.0
PRODID:-//Sacred Center - ECPv6.15.20//NONSGML v1.0//EN
CALSCALE:GREGORIAN
METHOD:PUBLISH
X-ORIGINAL-URL:https://sacredcenter.net
X-WR-CALDESC:Events for Sacred Center
REFRESH-INTERVAL;VALUE=DURATION:PT1H
X-Robots-Tag:noindex
X-PUBLISHED-TTL:PT1H
BEGIN:VTIMEZONE
TZID:America/New_York
BEGIN:DAYLIGHT
TZOFFSETFROM:-0500
TZOFFSETTO:-0400
TZNAME:EDT
DTSTART:20220313T070000
END:DAYLIGHT
BEGIN:STANDARD
TZOFFSETFROM:-0400
TZOFFSETTO:-0500
TZNAME:EST
DTSTART:20221106T060000
END:STANDARD
BEGIN:DAYLIGHT
TZOFFSETFROM:-0500
TZOFFSETTO:-0400
TZNAME:EDT
DTSTART:20230312T070000
END:DAYLIGHT
BEGIN:STANDARD
TZOFFSETFROM:-0400
TZOFFSETTO:-0500
TZNAME:EST
DTSTART:20231105T060000
END:STANDARD
BEGIN:DAYLIGHT
TZOFFSETFROM:-0500
TZOFFSETTO:-0400
TZNAME:EDT
DTSTART:20240310T070000
END:DAYLIGHT
BEGIN:STANDARD
TZOFFSETFROM:-0400
TZOFFSETTO:-0500
TZNAME:EST
DTSTART:20241103T060000
END:STANDARD
END:VTIMEZONE
BEGIN:VEVENT
DTSTART;TZID=America/New_York:20230927T000000
DTEND;TZID=America/New_York:20231009T235959
DTSTAMP:20260422T141636
CREATED:20221205T224342Z
LAST-MODIFIED:20240108T182032Z
UID:3394-1695772800-1696895999@sacredcenter.net
SUMMARY:Journey to the Stargates of Peru 2023
DESCRIPTION:The itinerary is now available – click the button below for more details and to register. \n\n\n\n\n\n\n\n\n\nVisit Machupicchu\, Wacrapucara\, Villcabamba\, Lake Titicaca\, Tiahuanaco\, Bolivia\n\n\n\nOptional extended journey through October 12: Explore lakes in Apu Ausangate by horseback\n\n\n\n\n\n\n\n\n\nLearn More and Register
URL:https://sacredcenter.net/event/journey-to-the-stargates-of-peru-2023/
CATEGORIES:Journey to Peru
ATTACH;FMTTYPE=image/jpeg:https://sacredcenter.net/wp-content/uploads/2022/02/Day11-Tiawanaco.jpg
END:VEVENT
BEGIN:VEVENT
DTSTART;TZID=America/New_York:20230927T000000
DTEND;TZID=America/New_York:20231012T235959
DTSTAMP:20260422T141636
CREATED:20230311T223207Z
LAST-MODIFIED:20230311T223716Z
UID:5776-1695772800-1697155199@sacredcenter.net
SUMMARY:Journey to the Stargates of Peru 2023 (extended journey)
DESCRIPTION:The itinerary is now available – click the button below for more details and to register. \n\n\n\n\n\n\n\n\n\nVisit Machupicchu\, Wacrapucara\, Villcabamba\, Lake Titicaca\, Tiahuanaco\, Bolivia\n\n\n\nExtended journey through October 12: Explore lakes in Apu Ausangate by horseback\n\n\n\n\n\n\n\n\n\nLearn More and Register
URL:https://sacredcenter.net/event/journey-to-the-stargates-of-peru-2023-extended-journey/
CATEGORIES:Journey to Peru
ATTACH;FMTTYPE=image/jpeg:https://sacredcenter.net/wp-content/uploads/2023/03/on-horseback-peru.jpg
END:VEVENT
END:VCALENDAR