BEGIN:VCALENDAR
VERSION:2.0
PRODID:-//Sacred Center - ECPv6.15.20//NONSGML v1.0//EN
CALSCALE:GREGORIAN
METHOD:PUBLISH
X-ORIGINAL-URL:https://sacredcenter.net
X-WR-CALDESC:Events for Sacred Center
REFRESH-INTERVAL;VALUE=DURATION:PT1H
X-Robots-Tag:noindex
X-PUBLISHED-TTL:PT1H
BEGIN:VTIMEZONE
TZID:America/New_York
BEGIN:DAYLIGHT
TZOFFSETFROM:-0500
TZOFFSETTO:-0400
TZNAME:EDT
DTSTART:20240310T070000
END:DAYLIGHT
BEGIN:STANDARD
TZOFFSETFROM:-0400
TZOFFSETTO:-0500
TZNAME:EST
DTSTART:20241103T060000
END:STANDARD
BEGIN:DAYLIGHT
TZOFFSETFROM:-0500
TZOFFSETTO:-0400
TZNAME:EDT
DTSTART:20250309T070000
END:DAYLIGHT
BEGIN:STANDARD
TZOFFSETFROM:-0400
TZOFFSETTO:-0500
TZNAME:EST
DTSTART:20251102T060000
END:STANDARD
BEGIN:DAYLIGHT
TZOFFSETFROM:-0500
TZOFFSETTO:-0400
TZNAME:EDT
DTSTART:20260308T070000
END:DAYLIGHT
BEGIN:STANDARD
TZOFFSETFROM:-0400
TZOFFSETTO:-0500
TZNAME:EST
DTSTART:20261101T060000
END:STANDARD
END:VTIMEZONE
BEGIN:VEVENT
DTSTART;TZID=America/New_York:20250405T100000
DTEND;TZID=America/New_York:20250406T160000
DTSTAMP:20260421T194320
CREATED:20241122T022600Z
LAST-MODIFIED:20250304T224732Z
UID:6792-1743847200-1743955200@sacredcenter.net
SUMMARY:Advanced CHILL Class
DESCRIPTION:Open to anyone who has received certification. (Graduates of the School for the Healing Arts CHILL 1 – 4) \n\n\n\nRegister by clicking on the “+” to add ticket(s) and then click on “Get Tickets” button below.
URL:https://sacredcenter.net/event/advanced-chill-class-10/
LOCATION:Sacred Center for the Healing Arts\, 74 Wawayanda Rd.\, Warwick\, NY\, 10990\, United States
CATEGORIES:Advanced CHILL
ATTACH;FMTTYPE=image/jpeg:https://sacredcenter.net/wp-content/uploads/2022/12/Chumpi_illumination_single_stonel.jpg
END:VEVENT
END:VCALENDAR