BEGIN:VCALENDAR
VERSION:2.0
PRODID:-//Sacred Center - ECPv6.15.20//NONSGML v1.0//EN
CALSCALE:GREGORIAN
METHOD:PUBLISH
X-WR-CALNAME:Sacred Center
X-ORIGINAL-URL:https://sacredcenter.net
X-WR-CALDESC:Events for Sacred Center
REFRESH-INTERVAL;VALUE=DURATION:PT1H
X-Robots-Tag:noindex
X-PUBLISHED-TTL:PT1H
BEGIN:VTIMEZONE
TZID:America/New_York
BEGIN:DAYLIGHT
TZOFFSETFROM:-0500
TZOFFSETTO:-0400
TZNAME:EDT
DTSTART:20250309T070000
END:DAYLIGHT
BEGIN:STANDARD
TZOFFSETFROM:-0400
TZOFFSETTO:-0500
TZNAME:EST
DTSTART:20251102T060000
END:STANDARD
BEGIN:DAYLIGHT
TZOFFSETFROM:-0500
TZOFFSETTO:-0400
TZNAME:EDT
DTSTART:20260308T070000
END:DAYLIGHT
BEGIN:STANDARD
TZOFFSETFROM:-0400
TZOFFSETTO:-0500
TZNAME:EST
DTSTART:20261101T060000
END:STANDARD
BEGIN:DAYLIGHT
TZOFFSETFROM:-0500
TZOFFSETTO:-0400
TZNAME:EDT
DTSTART:20270314T070000
END:DAYLIGHT
BEGIN:STANDARD
TZOFFSETFROM:-0400
TZOFFSETTO:-0500
TZNAME:EST
DTSTART:20271107T060000
END:STANDARD
END:VTIMEZONE
BEGIN:VEVENT
DTSTART;TZID=America/New_York:20260528T100000
DTEND;TZID=America/New_York:20260528T110000
DTSTAMP:20260420T181026
CREATED:20251127T171743Z
LAST-MODIFIED:20251127T171750Z
UID:7377-1779962400-1779966000@sacredcenter.net
SUMMARY:Meditation * Open to everyone *
DESCRIPTION:Join me as we practice Stillness and experience a wider perspective with all of our relations.Free and open to everyone.
URL:https://sacredcenter.net/event/meditation-open-to-everyone-47/
LOCATION:Sacred Center for the Healing Arts\, 74 Wawayanda Rd.\, Warwick\, NY\, 10990\, United States
CATEGORIES:meditation
ATTACH;FMTTYPE=image/jpeg:https://sacredcenter.net/wp-content/uploads/2015/06/IMG_0027.jpg
END:VEVENT
BEGIN:VEVENT
DTSTART;TZID=America/New_York:20260530T100000
DTEND;TZID=America/New_York:20260531T160000
DTSTAMP:20260420T181026
CREATED:20251127T221254Z
LAST-MODIFIED:20251127T221300Z
UID:7417-1780135200-1780243200@sacredcenter.net
SUMMARY:Spring CHILL
DESCRIPTION:In the spring\, we celebrate the return of the Sun’s warmth in the School for the Healing Arts.  \n\n\n\nWe reconnect with nature and awaken ourselves. We plant seeds that will blossom and offer a rich harvest in the year to come. \n\n\n\nIn this workshop\, we focus the Mind\, the keeper of our stories and the seat of the ego. The psyche can be the greatest ally or impediment to healing. \n\n\n\nJoin us this spring and discover how to reframe your story and develop a new relationship with self and spirit.  \n\n\n\nIn this weekend class you will: \n\n\n\n\nBring the unconscious self into awareness\, repattern your thinking\, and experience true healing\n\n\n\nDissolve past conflict in  hopeful environment that is focused on wholeness and compassion\n\n\n\nLearn to activate the intelligence of the body to release emotionality and reunite with your true potential\n\n\n\nTap into the energetic source of Creation so you are fueled by universal wisdom\, not just what tradition and genetics have passed on to you\n\n\n\n\nYou are welcome to join us for any workshop as long as you have taken a previous class at the Sacred Center or booked a 1:1 Healing & Introduction Session with Eleanora. \n\n\n\n\n\n\n\n\n\n\n\n\n\nClass is from 10 AM – 4 PM each day with a midday break. \n\n\n\nIN PERSON: If you’re coming to the Sacred Center in Warwick\, NY\, you can trust that all Covid-19 precautions are taken\, including temperature checks and social distancing.  Several lunch options are a short drive away. Or\, bring your own meal and plan on eating outside and spend the break getting to know the students in class. \n\n\n\nONLINE: Join the class via Zoom. \n\n\n\nTuition: $375 \n\n\n\nSets of new Peruvian Chumpi stones are available for purchase at class. \n\n\n\nRegister by clicking on the “+” to add ticket(s) and then click on “Get Tickets” button below.  \n\n\n\nReceive a special 10% discount when you register for all 4 workshops for certification within 18 months ($150 discount code will be given to apply to your 4th workshop registration)\, and 10% off the purchase of a set of 12 chumpi stones. Classes can be taken out of sequence.
URL:https://sacredcenter.net/event/spring-chill-7/
LOCATION:Sacred Center for the Healing Arts\, 74 Wawayanda Rd.\, Warwick\, NY\, 10990\, United States
CATEGORIES:CHILL class
ATTACH;FMTTYPE=image/jpeg:https://sacredcenter.net/wp-content/uploads/2022/12/chumpi_stones_purple_flower.jpg
ORGANIZER;CN="Eleanora Amendolara":MAILTO:info@sacredcenter.net
END:VEVENT
BEGIN:VEVENT
DTSTART;TZID=America/New_York:20260627T100000
DTEND;TZID=America/New_York:20260628T160000
DTSTAMP:20260420T181026
CREATED:20251127T172834Z
LAST-MODIFIED:20251127T215903Z
UID:7394-1782554400-1782662400@sacredcenter.net
SUMMARY:Advanced CHILL Class
DESCRIPTION:Open to anyone who has received certification. (Graduates of the School for the Healing Arts CHILL 1 – 4) \n\n\n\nRegister by clicking on the “+” to add ticket(s) and then click on “Get Tickets” button below.
URL:https://sacredcenter.net/event/advanced-chill-class-15/
LOCATION:Sacred Center for the Healing Arts\, 74 Wawayanda Rd.\, Warwick\, NY\, 10990\, United States
CATEGORIES:Advanced CHILL
ATTACH;FMTTYPE=image/jpeg:https://sacredcenter.net/wp-content/uploads/2022/12/chumpi_crystal.jpg
END:VEVENT
BEGIN:VEVENT
DTSTART;TZID=America/New_York:20260829T100000
DTEND;TZID=America/New_York:20260830T160000
DTSTAMP:20260420T181026
CREATED:20251127T221420Z
LAST-MODIFIED:20251127T221421Z
UID:7419-1787997600-1788105600@sacredcenter.net
SUMMARY:Summer CHILL
DESCRIPTION:At the turn of each season\, the School for the Healing Arts opens its doors to new and returning students. \n\n\n\nYou are welcome to join us for any workshop as long as you have booked a 1:1 Healing & Introduction Session with Eleanora. \n\n\n\nDuring this Summer CHILL session\, we consciously gather together when the sun is high in the sky. This time of light and growth is the ideal moment to connect to the Spirit within\, the Great Spirit that holds us all\, and the collective Spirit that unites all beings. \n\n\n\n\n\n\n\n\n\nTogether\, we are called to remember and embody a set of essential truths: \n\n\n\n\nAll healing is collective healing. Because healing has a rippling effect. what happens to others\, in some way\, happens to us.\n\n\n\nAs you grow and transform\, you are creating an opening for expansion all beings in all ways.\n\n\n\nTo truly connect with your spirit\, you must invite a deeper awareness and understanding of the Entirety\, the whole of the Greater Reality.\n\n\n\n\nIn this class you will continue to learn the art and practice of Chumpi Ilumination to create portals into healing\, including: \n\n\n\n\nNew Chumpi forms that will open you to received healing at the cellular level and the soul level\n\n\n\nA chance to practice your muscle testing skills and hone your ability to ask the body questions to gain insight into spiritual\, psychological\, emotional\, and physical health\n\n\n\nDiscover practical ways to further your own spiritual journey. You’ll gain insight into the formulas that help you live and thrive as your fullest self ready to move toward infinite possibility.\n\n\n\n\nClass is from 10 AM – 4 PM on Saturday and Sunday with a midday break. \n\n\n\nIN PERSON: If you’re coming to the Sacred Center in Warwick\, NY\, you can trust that all Covid-19 precautions are taken\, including temperature checks and social distancing.  Several lunch options are a short drive away. Or\, bring your own meal and plan on eating outside and spend the break getting to know the students in class. \n\n\n\nONLINE: Join the class via Zoom. \n\n\n\nTuition: $375 \n\n\n\nSets of new Peruvian Chumpi stones are available for purchase at class. \n\n\n\nRegister by clicking on the “+” to add ticket(s) and then click on “Get Tickets” button below.  \n\n\n\nReceive a special 10% discount when you register for all 4 workshops for certification within 18 months ($150 discount code will be given to apply to your 4th workshop registration)\, and 10% off the purchase of a set of 12 chumpi stones. Classes can be taken out of sequence.
URL:https://sacredcenter.net/event/summer-chill-8/
LOCATION:Sacred Center for the Healing Arts\, 74 Wawayanda Rd.\, Warwick\, NY\, 10990\, United States
CATEGORIES:CHILL class
ATTACH;FMTTYPE=image/jpeg:https://sacredcenter.net/wp-content/uploads/2015/06/IMG_0234.jpg
END:VEVENT
BEGIN:VEVENT
DTSTART;TZID=America/New_York:20260903T100000
DTEND;TZID=America/New_York:20260903T110000
DTSTAMP:20260420T181026
CREATED:20251127T171801Z
LAST-MODIFIED:20251127T171808Z
UID:7379-1788429600-1788433200@sacredcenter.net
SUMMARY:Meditation * Open to everyone *
DESCRIPTION:Join me as we practice Stillness and experience a wider perspective with all of our relations.Free and open to everyone.
URL:https://sacredcenter.net/event/meditation-open-to-everyone-48/
LOCATION:Sacred Center for the Healing Arts\, 74 Wawayanda Rd.\, Warwick\, NY\, 10990\, United States
CATEGORIES:meditation
ATTACH;FMTTYPE=image/jpeg:https://sacredcenter.net/wp-content/uploads/2020/12/meditation-image.jpg
END:VEVENT
BEGIN:VEVENT
DTSTART;TZID=America/New_York:20260910T000000
DTEND;TZID=America/New_York:20260922T235959
DTSTAMP:20260420T181026
CREATED:20251127T222849Z
LAST-MODIFIED:20260131T021655Z
UID:7433-1788998400-1790121599@sacredcenter.net
SUMMARY:Journey to the Stargates of Peru 2026
DESCRIPTION:The itinerary is now available – click the button below for more details and to register. \n\n\n\n\n\n\n\n\n\n\n\n\nVisit Cusco\, Pisac\, Machupicchu\, Lake Titicaca\, Chachapoyas\n\n\n\n\n\n\n\n\n\n\nLearn More and Register
URL:https://sacredcenter.net/event/journey-to-the-stargates-of-peru-2026/
CATEGORIES:Journey to Peru
ATTACH;FMTTYPE=image/jpeg:https://sacredcenter.net/wp-content/uploads/2025/01/Peru2025.jpg
END:VEVENT
BEGIN:VEVENT
DTSTART;TZID=America/New_York:20261003T100000
DTEND;TZID=America/New_York:20261004T160000
DTSTAMP:20260420T181026
CREATED:20251127T172957Z
LAST-MODIFIED:20251127T220055Z
UID:7399-1791021600-1791129600@sacredcenter.net
SUMMARY:Advanced CHILL Class
DESCRIPTION:Open to anyone who has received certification. (Graduates of the School for the Healing Arts CHILL 1 – 4) \n\n\n\nRegister by clicking on the “+” to add ticket(s) and then click on “Get Tickets” button below.
URL:https://sacredcenter.net/event/advanced-chill-class-16/
LOCATION:Sacred Center for the Healing Arts\, 74 Wawayanda Rd.\, Warwick\, NY\, 10990\, United States
CATEGORIES:Advanced CHILL
ATTACH;FMTTYPE=image/png:https://sacredcenter.net/wp-content/uploads/2020/12/Screen-Shot-2021-05-28-at-10.40.09-AM-e1622231692740.png
END:VEVENT
BEGIN:VEVENT
DTSTART;TZID=America/New_York:20261029T100000
DTEND;TZID=America/New_York:20261029T110000
DTSTAMP:20260420T181026
CREATED:20251127T171820Z
LAST-MODIFIED:20251127T171827Z
UID:7370-1793268000-1793271600@sacredcenter.net
SUMMARY:Meditation * Open to everyone *
DESCRIPTION:Join me as we practice Stillness and experience a wider perspective with all of our relations.Free and open to everyone.
URL:https://sacredcenter.net/event/meditation-open-to-everyone-49/
LOCATION:Sacred Center for the Healing Arts\, 74 Wawayanda Rd.\, Warwick\, NY\, 10990\, United States
CATEGORIES:meditation
ATTACH;FMTTYPE=image/jpeg:https://sacredcenter.net/wp-content/uploads/2022/12/dagger_purple_crystals.jpg
END:VEVENT
BEGIN:VEVENT
DTSTART;TZID=America/New_York:20261121T100000
DTEND;TZID=America/New_York:20261122T160000
DTSTAMP:20260420T181026
CREATED:20251127T221651Z
LAST-MODIFIED:20251127T221657Z
UID:7420-1795255200-1795363200@sacredcenter.net
SUMMARY:Autumn CHILL
DESCRIPTION:At the turn of each season\, the School for the Healing Arts opens its doors to new and returning students. \n\n\n\nYou are welcome to join us for any workshop as long as you have booked a 1:1 Healing & Introduction Session with Eleanora. \n\n\n\nInside of you\, there is a bright and powerful light.  \n\n\n\nBut\, the old habits and “this is the way it’s always been” kind of thinking make it impossible to see who you really are and what is really possible. \n\n\n\nChumpi Illumination teaches you how to access that inner light\, and helps to light your way forward.  \n\n\n\nAutumn is a time to harvest and it is a time to look inward.  \n\n\n\nIt’s the perfect time to light your own inner hearth fire and connect to the intuitive powers of spirit and the wisdom of the body. \n\n\n\nIn this two-day workshop\, you will awaken and deepen your understanding of Chumpi Illumination. You will hone your muscle testing skills and find new ways to reach and trust your own intuitive abilities. \n\n\n\n\n\n\n\n\n\nClass is from 10 AM – 4 PM each day with a midday break. \n\n\n\nIN PERSON: Join us at the Sacred Center in Warwick\, NY.  Several lunch options are a short drive away. Or\, bring your own meal and plan on eating outside and spend the break getting to know the students in class. \n\n\n\nONLINE: Join the class via Zoom. \n\n\n\nTuition: $375 \n\n\n\nSets of new Peruvian Chumpi stones are available for purchase at class. \n\n\n\nRegister by clicking on the “+” to add ticket(s) and then click on “Get Tickets” button below. \n\n\n\nReceive a special 10% discount when you register for all 4 workshops for certification within 18 months ($150 discount code will be given to apply to your 4th workshop registration)\, and 10% off the purchase of a set of 12 chumpi stones. Classes can be taken out of sequence.
URL:https://sacredcenter.net/event/autumn-chill-8/
LOCATION:Sacred Center for the Healing Arts\, 74 Wawayanda Rd.\, Warwick\, NY\, 10990\, United States
CATEGORIES:CHILL class
ATTACH;FMTTYPE=image/jpeg:https://sacredcenter.net/wp-content/uploads/2015/06/IMG_0032.jpg
END:VEVENT
BEGIN:VEVENT
DTSTART;TZID=America/New_York:20261210T100000
DTEND;TZID=America/New_York:20261210T110000
DTSTAMP:20260420T181026
CREATED:20251127T171836Z
LAST-MODIFIED:20251127T171837Z
UID:7382-1796896800-1796900400@sacredcenter.net
SUMMARY:Meditation * Open to everyone *
DESCRIPTION:Join me as we practice Stillness and experience a wider perspective with all of our relations.Free and open to everyone.
URL:https://sacredcenter.net/event/meditation-open-to-everyone-73/
LOCATION:Sacred Center for the Healing Arts\, 74 Wawayanda Rd.\, Warwick\, NY\, 10990\, United States
CATEGORIES:meditation
ATTACH;FMTTYPE=image/jpeg:https://sacredcenter.net/wp-content/uploads/2022/12/Chumpi_illumination_stones_bagl.jpg
END:VEVENT
END:VCALENDAR